BEGIN:VCALENDAR
VERSION:2.0
PRODID:-//Trailside Chapel &amp; Retreat Center - ECPv6.15.20//NONSGML v1.0//EN
CALSCALE:GREGORIAN
METHOD:PUBLISH
X-WR-CALNAME:Trailside Chapel &amp; Retreat Center
X-ORIGINAL-URL:https://trailsideretreat.com
X-WR-CALDESC:Events for Trailside Chapel &amp; Retreat Center
REFRESH-INTERVAL;VALUE=DURATION:PT1H
X-Robots-Tag:noindex
X-PUBLISHED-TTL:PT1H
BEGIN:VTIMEZONE
TZID:UTC
BEGIN:STANDARD
TZOFFSETFROM:+0000
TZOFFSETTO:+0000
TZNAME:UTC
DTSTART:20250101T000000
END:STANDARD
END:VTIMEZONE
BEGIN:VEVENT
DTSTART;VALUE=DATE:20260613
DTEND;VALUE=DATE:20260615
DTSTAMP:20260423T130629
CREATED:20260304T215158Z
LAST-MODIFIED:20260304T215158Z
UID:2372-1781308800-1781481599@trailsideretreat.com
SUMMARY:1 Cabin Reserved
DESCRIPTION:For Karen
URL:https://trailsideretreat.com/event/1-cabin-reserved-2/
END:VEVENT
BEGIN:VEVENT
DTSTART;VALUE=DATE:20260807
DTEND;VALUE=DATE:20260810
DTSTAMP:20260423T130629
CREATED:20260304T215249Z
LAST-MODIFIED:20260304T215249Z
UID:2374-1786060800-1786319999@trailsideretreat.com
SUMMARY:1 Cabin Reserved
DESCRIPTION:For Karen
URL:https://trailsideretreat.com/event/1-cabin-reserved-3/
END:VEVENT
END:VCALENDAR