BEGIN:VCALENDAR
VERSION:2.0
PRODID:-//Trailside Chapel &amp; Retreat Center - ECPv6.15.20//NONSGML v1.0//EN
CALSCALE:GREGORIAN
METHOD:PUBLISH
X-ORIGINAL-URL:https://trailsideretreat.com
X-WR-CALDESC:Events for Trailside Chapel &amp; Retreat Center
REFRESH-INTERVAL;VALUE=DURATION:PT1H
X-Robots-Tag:noindex
X-PUBLISHED-TTL:PT1H
BEGIN:VTIMEZONE
TZID:UTC
BEGIN:STANDARD
TZOFFSETFROM:+0000
TZOFFSETTO:+0000
TZNAME:UTC
DTSTART:20210101T000000
END:STANDARD
END:VTIMEZONE
BEGIN:VEVENT
DTSTART;TZID=UTC:20251011T080000
DTEND;TZID=UTC:20251020T170000
DTSTAMP:20260423T194744
CREATED:20250710T105956Z
LAST-MODIFIED:20250710T105956Z
UID:2363-1760169600-1760979600@trailsideretreat.com
SUMMARY:Bunkhouse Reserved
DESCRIPTION:Kevin & Becky Payne
URL:https://trailsideretreat.com/event/bunkhouse-reserved-8/
END:VEVENT
BEGIN:VEVENT
DTSTART;VALUE=DATE:20250911
DTEND;VALUE=DATE:20250916
DTSTAMP:20260423T194744
CREATED:20250725T114122Z
LAST-MODIFIED:20250725T114122Z
UID:2367-1757548800-1757980799@trailsideretreat.com
SUMMARY:Bunkhouse + 1 small cabin
DESCRIPTION:Kevin & Becky Payne
URL:https://trailsideretreat.com/event/bunkhouse-1-small-cabin/
END:VEVENT
BEGIN:VEVENT
DTSTART;VALUE=DATE:20250831
DTEND;VALUE=DATE:20250907
DTSTAMP:20260423T194744
CREATED:20250605T000837Z
LAST-MODIFIED:20250605T000837Z
UID:2354-1756598400-1757203199@trailsideretreat.com
SUMMARY:2 Cabins Reserved
DESCRIPTION:Amanda and family
URL:https://trailsideretreat.com/event/2-cabins-reserved/
END:VEVENT
BEGIN:VEVENT
DTSTART;VALUE=DATE:20250816
DTEND;VALUE=DATE:20250907
DTSTAMP:20260423T194744
CREATED:20250303T223924Z
LAST-MODIFIED:20250710T110049Z
UID:2329-1755302400-1757203199@trailsideretreat.com
SUMMARY:Bunkhouse Reserved
DESCRIPTION:Gary & Lori Collins
URL:https://trailsideretreat.com/event/bunkhouse-reserved-5/
END:VEVENT
BEGIN:VEVENT
DTSTART;VALUE=DATE:20250815
DTEND;VALUE=DATE:20250818
DTSTAMP:20260423T194744
CREATED:20250725T114217Z
LAST-MODIFIED:20250725T124232Z
UID:2369-1755216000-1755475199@trailsideretreat.com
SUMMARY:1 Small Cabin + Cabin #3
DESCRIPTION:Brittany & Thom Golden
URL:https://trailsideretreat.com/event/1-small-cabin/
END:VEVENT
BEGIN:VEVENT
DTSTART;VALUE=DATE:20250811
DTEND;VALUE=DATE:20250814
DTSTAMP:20260423T194744
CREATED:20250324T200832Z
LAST-MODIFIED:20250324T200832Z
UID:2332-1754870400-1755129599@trailsideretreat.com
SUMMARY:Camp Reserved
DESCRIPTION:
URL:https://trailsideretreat.com/event/camp-reserved/
END:VEVENT
BEGIN:VEVENT
DTSTART;VALUE=DATE:20250806
DTEND;VALUE=DATE:20250807
DTSTAMP:20260423T194744
CREATED:20250710T105850Z
LAST-MODIFIED:20250710T105850Z
UID:2361-1754438400-1754524799@trailsideretreat.com
SUMMARY:Bunkhouse Reserved
DESCRIPTION:
URL:https://trailsideretreat.com/event/bunkhouse-reserved-7/
END:VEVENT
BEGIN:VEVENT
DTSTART;VALUE=DATE:20250727
DTEND;VALUE=DATE:20250728
DTSTAMP:20260423T194744
CREATED:20250324T200915Z
LAST-MODIFIED:20250324T200915Z
UID:2334-1753574400-1753660799@trailsideretreat.com
SUMMARY:1 Cabin Reserved
DESCRIPTION:
URL:https://trailsideretreat.com/event/1-cabin-reserved/
END:VEVENT
BEGIN:VEVENT
DTSTART;VALUE=DATE:20250721
DTEND;VALUE=DATE:20250727
DTSTAMP:20260423T194744
CREATED:20250626T194358Z
LAST-MODIFIED:20250626T194358Z
UID:2359-1753056000-1753574399@trailsideretreat.com
SUMMARY:Whole Campus Reserved
DESCRIPTION:Fresh Wind Church
URL:https://trailsideretreat.com/event/whole-campus-reserved/
END:VEVENT
BEGIN:VEVENT
DTSTART;VALUE=DATE:20250630
DTEND;VALUE=DATE:20250705
DTSTAMP:20260423T194744
CREATED:20250626T194301Z
LAST-MODIFIED:20250626T194301Z
UID:2357-1751241600-1751673599@trailsideretreat.com
SUMMARY:Bunkhouse & 1 Small Cabin Reserved
DESCRIPTION:Matt & Niki Holman and family
URL:https://trailsideretreat.com/event/bunkhouse-1-small-cabin-reserved/
END:VEVENT
BEGIN:VEVENT
DTSTART;VALUE=DATE:20250626
DTEND;VALUE=DATE:20250630
DTSTAMP:20260423T194744
CREATED:20250324T200952Z
LAST-MODIFIED:20250324T200952Z
UID:2336-1750896000-1751241599@trailsideretreat.com
SUMMARY:Camp Reserved
DESCRIPTION:
URL:https://trailsideretreat.com/event/camp-reserved-2/
END:VEVENT
BEGIN:VEVENT
DTSTART;VALUE=DATE:20250622
DTEND;VALUE=DATE:20250626
DTSTAMP:20260423T194744
CREATED:20250604T235949Z
LAST-MODIFIED:20250605T000404Z
UID:2350-1750550400-1750895999@trailsideretreat.com
SUMMARY:Bunkhouse Reserved
DESCRIPTION:John & Laurie
URL:https://trailsideretreat.com/event/bunkhouse-reserved-6/
END:VEVENT
BEGIN:VEVENT
DTSTART;VALUE=DATE:20250522
DTEND;VALUE=DATE:20250525
DTSTAMP:20260423T194744
CREATED:20250521T112355Z
LAST-MODIFIED:20250521T122433Z
UID:2338-1747872000-1748131199@trailsideretreat.com
SUMMARY:1 Cabin Reserved
DESCRIPTION:1 Cabin Reserved to Healing Hands Church
URL:https://trailsideretreat.com/event/may-22-24-1-cabin-reserved/
END:VEVENT
BEGIN:VEVENT
DTSTART;VALUE=DATE:20240905
DTEND;VALUE=DATE:20240908
DTSTAMP:20260423T194744
CREATED:20240802T173322Z
LAST-MODIFIED:20240802T173322Z
UID:2322-1725494400-1725753599@trailsideretreat.com
SUMMARY:TCCC Trail Making
DESCRIPTION:
URL:https://trailsideretreat.com/event/tccc-trail-making/
END:VEVENT
BEGIN:VEVENT
DTSTART;VALUE=DATE:20240823
DTEND;VALUE=DATE:20240825
DTSTAMP:20260423T194744
CREATED:20240604T205134Z
LAST-MODIFIED:20240604T205237Z
UID:2314-1724371200-1724543999@trailsideretreat.com
SUMMARY:Camp Booked - Prayer School
DESCRIPTION:
URL:https://trailsideretreat.com/event/camp-booked-prayer-school/
END:VEVENT
BEGIN:VEVENT
DTSTART;VALUE=DATE:20240807
DTEND;VALUE=DATE:20240812
DTSTAMP:20260423T194744
CREATED:20240802T173203Z
LAST-MODIFIED:20240802T173203Z
UID:2320-1722988800-1723420799@trailsideretreat.com
SUMMARY:Bunkhouse Booked
DESCRIPTION:
URL:https://trailsideretreat.com/event/bunkhouse-booked-8/
END:VEVENT
BEGIN:VEVENT
DTSTART;TZID=UTC:20240720T120000
DTEND;TZID=UTC:20240720T160000
DTSTAMP:20260423T194744
CREATED:20240427T114810Z
LAST-MODIFIED:20240427T114810Z
UID:2308-1721476800-1721491200@trailsideretreat.com
SUMMARY:Karst Annual Meeting - Meeting House
DESCRIPTION:
URL:https://trailsideretreat.com/event/karst-annual-meeting-meeting-house/
END:VEVENT
BEGIN:VEVENT
DTSTART;VALUE=DATE:20240713
DTEND;VALUE=DATE:20240720
DTSTAMP:20260423T194744
CREATED:20240320T204229Z
LAST-MODIFIED:20240604T205044Z
UID:2273-1720828800-1721433599@trailsideretreat.com
SUMMARY:Bunkhouse Reserved - B. Smith
DESCRIPTION:
URL:https://trailsideretreat.com/event/bunkhouse-reserved-4/
END:VEVENT
BEGIN:VEVENT
DTSTART;TZID=UTC:20240629T110000
DTEND;TZID=UTC:20240629T170000
DTSTAMP:20260423T194744
CREATED:20240604T210156Z
LAST-MODIFIED:20240604T210156Z
UID:2316-1719658800-1719680400@trailsideretreat.com
SUMMARY:Pop's Celebration Service
DESCRIPTION:Celebration Service @Tccc\nThe Meeting Place\nW6671 Haiwatha Trail\nNaubinway\, MI\n(Corner of H-40 & Hiawatha Trail)
URL:https://trailsideretreat.com/event/pops-celebration-service/
END:VEVENT
BEGIN:VEVENT
DTSTART;VALUE=DATE:20240623
DTEND;VALUE=DATE:20240630
DTSTAMP:20260423T194744
CREATED:20240510T191954Z
LAST-MODIFIED:20240510T192027Z
UID:2310-1719100800-1719705599@trailsideretreat.com
SUMMARY:Camp is Reserved
DESCRIPTION:
URL:https://trailsideretreat.com/event/camp-is-reserved/
END:VEVENT
BEGIN:VEVENT
DTSTART;VALUE=DATE:20230817
DTEND;VALUE=DATE:20230822
DTSTAMP:20260423T194744
CREATED:20230614T224637Z
LAST-MODIFIED:20230614T224710Z
UID:2266-1692230400-1692662399@trailsideretreat.com
SUMMARY:Bunkhouse Reserved but Campsites Available
DESCRIPTION:
URL:https://trailsideretreat.com/event/bunkhouse-reserved-3/
END:VEVENT
BEGIN:VEVENT
DTSTART;VALUE=DATE:20230731
DTEND;VALUE=DATE:20230806
DTSTAMP:20260423T194744
CREATED:20230326T193050Z
LAST-MODIFIED:20230326T193050Z
UID:2243-1690761600-1691279999@trailsideretreat.com
SUMMARY:Campus Reserved - Women's Conference
DESCRIPTION:Women’s Conference – Vicki & Cheryl
URL:https://trailsideretreat.com/event/campus-reserved-womens-conference/
END:VEVENT
BEGIN:VEVENT
DTSTART;VALUE=DATE:20230728
DTEND;VALUE=DATE:20230801
DTSTAMP:20260423T194744
CREATED:20230521T212851Z
LAST-MODIFIED:20230614T225003Z
UID:2259-1690502400-1690847999@trailsideretreat.com
SUMMARY:Bunkhouse Reserved but Campsites Available
DESCRIPTION:
URL:https://trailsideretreat.com/event/bunkhouse-reserved-2/
END:VEVENT
BEGIN:VEVENT
DTSTART;VALUE=DATE:20230717
DTEND;VALUE=DATE:20230721
DTSTAMP:20260423T194744
CREATED:20230521T212635Z
LAST-MODIFIED:20230521T212916Z
UID:2257-1689552000-1689897599@trailsideretreat.com
SUMMARY:Ladies Retreat
DESCRIPTION:
URL:https://trailsideretreat.com/event/july-17-20-ladies-retreat/
END:VEVENT
BEGIN:VEVENT
DTSTART;VALUE=DATE:20230708
DTEND;VALUE=DATE:20230710
DTSTAMP:20260423T194744
CREATED:20230326T192919Z
LAST-MODIFIED:20230326T193142Z
UID:2241-1688774400-1688947199@trailsideretreat.com
SUMMARY:Meeting Place Reserved - Karst Annual Meeting
DESCRIPTION:
URL:https://trailsideretreat.com/event/meeting-place-reserved-july-8/
END:VEVENT
BEGIN:VEVENT
DTSTART;VALUE=DATE:20220909
DTEND;VALUE=DATE:20220911
DTSTAMP:20260423T194744
CREATED:20220816T232438Z
LAST-MODIFIED:20220816T232438Z
UID:2237-1662681600-1662854399@trailsideretreat.com
SUMMARY:Reserved Sept 9-10
DESCRIPTION:
URL:https://trailsideretreat.com/event/reserved-sept-9-10/
END:VEVENT
BEGIN:VEVENT
DTSTART;VALUE=DATE:20220818
DTEND;VALUE=DATE:20220821
DTSTAMP:20260423T194744
CREATED:20220719T161512Z
LAST-MODIFIED:20220719T161512Z
UID:2231-1660780800-1661039999@trailsideretreat.com
SUMMARY:Bunkhouse Reserved
DESCRIPTION:
URL:https://trailsideretreat.com/event/bunkhouse-reserved/
END:VEVENT
BEGIN:VEVENT
DTSTART;VALUE=DATE:20220813
DTEND;VALUE=DATE:20220818
DTSTAMP:20260423T194744
CREATED:20220730T170954Z
LAST-MODIFIED:20220730T171112Z
UID:2233-1660348800-1660780799@trailsideretreat.com
SUMMARY:Trailside Chapel Booked
DESCRIPTION:
URL:https://trailsideretreat.com/event/aug-13-17-booked/
END:VEVENT
BEGIN:VEVENT
DTSTART;VALUE=DATE:20220801
DTEND;VALUE=DATE:20220808
DTSTAMP:20260423T194744
CREATED:20220405T113457Z
LAST-MODIFIED:20220405T113457Z
UID:2228-1659312000-1659916799@trailsideretreat.com
SUMMARY:Women's Conference
DESCRIPTION:
URL:https://trailsideretreat.com/event/womens-conference-aug1-2022/
END:VEVENT
BEGIN:VEVENT
DTSTART;VALUE=DATE:20220729
DTEND;VALUE=DATE:20220801
DTSTAMP:20260423T194744
CREATED:20220405T113322Z
LAST-MODIFIED:20220405T113322Z
UID:2226-1659052800-1659311999@trailsideretreat.com
SUMMARY:Family Camp: Zimmerman
DESCRIPTION:
URL:https://trailsideretreat.com/event/family-camp-zimmerman/
END:VEVENT
END:VCALENDAR