BEGIN:VCALENDAR
VERSION:2.0
PRODID:-//Trailside Chapel &amp; Retreat Center - ECPv6.15.20//NONSGML v1.0//EN
CALSCALE:GREGORIAN
METHOD:PUBLISH
X-WR-CALNAME:Trailside Chapel &amp; Retreat Center
X-ORIGINAL-URL:https://trailsideretreat.com
X-WR-CALDESC:Events for Trailside Chapel &amp; Retreat Center
REFRESH-INTERVAL;VALUE=DURATION:PT1H
X-Robots-Tag:noindex
X-PUBLISHED-TTL:PT1H
BEGIN:VTIMEZONE
TZID:UTC
BEGIN:STANDARD
TZOFFSETFROM:+0000
TZOFFSETTO:+0000
TZNAME:UTC
DTSTART:20190101T000000
END:STANDARD
END:VTIMEZONE
BEGIN:VEVENT
DTSTART;VALUE=DATE:20210723
DTEND;VALUE=DATE:20210725
DTSTAMP:20260424T022052
CREATED:20210711T234614Z
LAST-MODIFIED:20210711T234614Z
UID:2111-1626998400-1627171199@trailsideretreat.com
SUMMARY:Bunkhouse Booked
DESCRIPTION:
URL:https://trailsideretreat.com/event/bunkhouse-booked/
END:VEVENT
BEGIN:VEVENT
DTSTART;VALUE=DATE:20210714
DTEND;VALUE=DATE:20210719
DTSTAMP:20260424T022052
CREATED:20210416T214024Z
LAST-MODIFIED:20210416T214142Z
UID:2103-1626220800-1626652799@trailsideretreat.com
SUMMARY:Kid's Camp (Ages 11 - 14)
DESCRIPTION:
URL:https://trailsideretreat.com/event/kids-camp-ages-11-14/
END:VEVENT
BEGIN:VEVENT
DTSTART;VALUE=DATE:20210710
DTEND;VALUE=DATE:20210711
DTSTAMP:20260424T022052
CREATED:20210610T225944Z
LAST-MODIFIED:20210610T225944Z
UID:2108-1625875200-1625961599@trailsideretreat.com
SUMMARY:Meeting Barn Reserved for Karst Annual Business Meeting
DESCRIPTION:
URL:https://trailsideretreat.com/event/meeting-barn-reserved-for-karst-annual-business-meeting/
END:VEVENT
BEGIN:VEVENT
DTSTART;VALUE=DATE:20201019
DTEND;VALUE=DATE:20201025
DTSTAMP:20260424T022052
CREATED:20200921T235800Z
LAST-MODIFIED:20200922T000334Z
UID:2065-1603065600-1603583999@trailsideretreat.com
SUMMARY:Ladies Retreat
DESCRIPTION:
URL:https://trailsideretreat.com/event/ladies-retreat-oct/
END:VEVENT
BEGIN:VEVENT
DTSTART;VALUE=DATE:20200917
DTEND;VALUE=DATE:20200920
DTSTAMP:20260424T022052
CREATED:20200811T215458Z
LAST-MODIFIED:20200811T215547Z
UID:2060-1600300800-1600559999@trailsideretreat.com
SUMMARY:Quilting Weekend Bee
DESCRIPTION:Quilting Weekend Bee in the Meeting Barn
URL:https://trailsideretreat.com/event/quilting-weekend-bee/
END:VEVENT
BEGIN:VEVENT
DTSTART;VALUE=DATE:20200821
DTEND;VALUE=DATE:20200824
DTSTAMP:20260424T022052
CREATED:20191011T010115Z
LAST-MODIFIED:20200514T234412Z
UID:214-1597968000-1598227199@trailsideretreat.com
SUMMARY:Women's Retreat
DESCRIPTION:
URL:https://trailsideretreat.com/event/ladies-retreat/
END:VEVENT
BEGIN:VEVENT
DTSTART;VALUE=DATE:20200731
DTEND;VALUE=DATE:20200810
DTSTAMP:20260424T022052
CREATED:20200608T223338Z
LAST-MODIFIED:20200608T223405Z
UID:2055-1596153600-1597017599@trailsideretreat.com
SUMMARY:Bailey Christian Church Retreat
DESCRIPTION:
URL:https://trailsideretreat.com/event/bailey-christian-church/
END:VEVENT
END:VCALENDAR