BEGIN:VCALENDAR
VERSION:2.0
PRODID:-//Trailside Chapel &amp; Retreat Center - ECPv6.15.20//NONSGML v1.0//EN
CALSCALE:GREGORIAN
METHOD:PUBLISH
X-WR-CALNAME:Trailside Chapel &amp; Retreat Center
X-ORIGINAL-URL:https://trailsideretreat.com
X-WR-CALDESC:Events for Trailside Chapel &amp; Retreat Center
REFRESH-INTERVAL;VALUE=DURATION:PT1H
X-Robots-Tag:noindex
X-PUBLISHED-TTL:PT1H
BEGIN:VTIMEZONE
TZID:UTC
BEGIN:STANDARD
TZOFFSETFROM:+0000
TZOFFSETTO:+0000
TZNAME:UTC
DTSTART:20240101T000000
END:STANDARD
END:VTIMEZONE
BEGIN:VEVENT
DTSTART;VALUE=DATE:20250806
DTEND;VALUE=DATE:20250807
DTSTAMP:20260425T214044
CREATED:20250710T105850Z
LAST-MODIFIED:20250710T105850Z
UID:2361-1754438400-1754524799@trailsideretreat.com
SUMMARY:Bunkhouse Reserved
DESCRIPTION:
URL:https://trailsideretreat.com/event/bunkhouse-reserved-7/
END:VEVENT
BEGIN:VEVENT
DTSTART;VALUE=DATE:20250811
DTEND;VALUE=DATE:20250814
DTSTAMP:20260425T214044
CREATED:20250324T200832Z
LAST-MODIFIED:20250324T200832Z
UID:2332-1754870400-1755129599@trailsideretreat.com
SUMMARY:Camp Reserved
DESCRIPTION:
URL:https://trailsideretreat.com/event/camp-reserved/
END:VEVENT
BEGIN:VEVENT
DTSTART;VALUE=DATE:20250815
DTEND;VALUE=DATE:20250818
DTSTAMP:20260425T214044
CREATED:20250725T114217Z
LAST-MODIFIED:20250725T124232Z
UID:2369-1755216000-1755475199@trailsideretreat.com
SUMMARY:1 Small Cabin + Cabin #3
DESCRIPTION:Brittany & Thom Golden
URL:https://trailsideretreat.com/event/1-small-cabin/
END:VEVENT
BEGIN:VEVENT
DTSTART;VALUE=DATE:20250816
DTEND;VALUE=DATE:20250907
DTSTAMP:20260425T214044
CREATED:20250303T223924Z
LAST-MODIFIED:20250710T110049Z
UID:2329-1755302400-1757203199@trailsideretreat.com
SUMMARY:Bunkhouse Reserved
DESCRIPTION:Gary & Lori Collins
URL:https://trailsideretreat.com/event/bunkhouse-reserved-5/
END:VEVENT
BEGIN:VEVENT
DTSTART;VALUE=DATE:20250831
DTEND;VALUE=DATE:20250907
DTSTAMP:20260425T214044
CREATED:20250605T000837Z
LAST-MODIFIED:20250605T000837Z
UID:2354-1756598400-1757203199@trailsideretreat.com
SUMMARY:2 Cabins Reserved
DESCRIPTION:Amanda and family
URL:https://trailsideretreat.com/event/2-cabins-reserved/
END:VEVENT
END:VCALENDAR